BEGIN:VCALENDAR
VERSION:2.0
PRODID:-//Middle Tennessee Fantasy Sports - ECPv6.15.14//NONSGML v1.0//EN
CALSCALE:GREGORIAN
METHOD:PUBLISH
X-ORIGINAL-URL:https://middletennesseefantasysports.com
X-WR-CALDESC:Events for Middle Tennessee Fantasy Sports
REFRESH-INTERVAL;VALUE=DURATION:PT1H
X-Robots-Tag:noindex
X-PUBLISHED-TTL:PT1H
BEGIN:VTIMEZONE
TZID:America/Chicago
BEGIN:DAYLIGHT
TZOFFSETFROM:-0600
TZOFFSETTO:-0500
TZNAME:CDT
DTSTART:20190310T080000
END:DAYLIGHT
BEGIN:STANDARD
TZOFFSETFROM:-0500
TZOFFSETTO:-0600
TZNAME:CST
DTSTART:20191103T070000
END:STANDARD
BEGIN:DAYLIGHT
TZOFFSETFROM:-0600
TZOFFSETTO:-0500
TZNAME:CDT
DTSTART:20200308T080000
END:DAYLIGHT
BEGIN:STANDARD
TZOFFSETFROM:-0500
TZOFFSETTO:-0600
TZNAME:CST
DTSTART:20201101T070000
END:STANDARD
BEGIN:DAYLIGHT
TZOFFSETFROM:-0600
TZOFFSETTO:-0500
TZNAME:CDT
DTSTART:20210314T080000
END:DAYLIGHT
BEGIN:STANDARD
TZOFFSETFROM:-0500
TZOFFSETTO:-0600
TZNAME:CST
DTSTART:20211107T070000
END:STANDARD
BEGIN:DAYLIGHT
TZOFFSETFROM:-0600
TZOFFSETTO:-0500
TZNAME:CDT
DTSTART:20220313T080000
END:DAYLIGHT
BEGIN:STANDARD
TZOFFSETFROM:-0500
TZOFFSETTO:-0600
TZNAME:CST
DTSTART:20221106T070000
END:STANDARD
END:VTIMEZONE
BEGIN:VEVENT
DTSTART;TZID=America/Chicago:20210829T183000
DTEND;TZID=America/Chicago:20210829T201500
DTSTAMP:20260423T151752
CREATED:20210708T013036Z
LAST-MODIFIED:20210708T013036Z
UID:1271-1630261800-1630268100@middletennesseefantasysports.com
SUMMARY:MTFFL3 Draft
DESCRIPTION:Middle Tennessee Fantasy Football League 3 Draft \n6th season of play
URL:https://middletennesseefantasysports.com/mtfs-calendar/mtffl3-draft/
LOCATION:CBS Sports
END:VEVENT
BEGIN:VEVENT
DTSTART;TZID=America/Chicago:20210829T154500
DTEND;TZID=America/Chicago:20210829T171500
DTSTAMP:20260423T151752
CREATED:20210708T012903Z
LAST-MODIFIED:20210708T012903Z
UID:1269-1630251900-1630257300@middletennesseefantasysports.com
SUMMARY:Best Ball Football League Drafts
DESCRIPTION:Middle Tennessee Best Ball football League Drafts \nMTBBfL\nMTBBfL2 \n2nd season of play
URL:https://middletennesseefantasysports.com/mtfs-calendar/best-ball-football-league-drafts/
LOCATION:Fantrax
END:VEVENT
BEGIN:VEVENT
DTSTART;TZID=America/Chicago:20210828T181500
DTEND;TZID=America/Chicago:20210828T200000
DTSTAMP:20260423T151752
CREATED:20210708T012652Z
LAST-MODIFIED:20210708T012652Z
UID:1267-1630174500-1630180800@middletennesseefantasysports.com
SUMMARY:DCFFL Draft
DESCRIPTION:Davidson County Fantasy Football League Draft \n9th season of play
URL:https://middletennesseefantasysports.com/mtfs-calendar/dcffl-draft/
LOCATION:Genesis Engineering\, 134 $th Avenue N.\, Franklin\, TN\, 37064\, United States
END:VEVENT
BEGIN:VEVENT
DTSTART;TZID=America/Chicago:20210828T164500
DTEND;TZID=America/Chicago:20210828T180500
DTSTAMP:20260423T151752
CREATED:20210708T012535Z
LAST-MODIFIED:20210708T012535Z
UID:1265-1630169100-1630173900@middletennesseefantasysports.com
SUMMARY:SCFFL Draft
DESCRIPTION:Sumner County Fantasy Football League Draft \n7th season of play
URL:https://middletennesseefantasysports.com/mtfs-calendar/scffl-draft/
LOCATION:Genesis Engineering\, 134 $th Avenue N.\, Franklin\, TN\, 37064\, United States
END:VEVENT
BEGIN:VEVENT
DTSTART;TZID=America/Chicago:20210828T153000
DTEND;TZID=America/Chicago:20210828T163000
DTSTAMP:20260423T151752
CREATED:20210708T012418Z
LAST-MODIFIED:20210708T012418Z
UID:1263-1630164600-1630168200@middletennesseefantasysports.com
SUMMARY:MTFS Awards Ceremony 2021
DESCRIPTION:Championship plaques will be awarded\, Owner of the Year will be named\, and the very first MTFS Hall of Fame inductee will receive a prestigious honor!
URL:https://middletennesseefantasysports.com/mtfs-calendar/mtfs-awards-ceremony-2021/
LOCATION:Genesis Engineering\, 134 $th Avenue N.\, Franklin\, TN\, 37064\, United States
END:VEVENT
BEGIN:VEVENT
DTSTART;TZID=America/Chicago:20210828T140000
DTEND;TZID=America/Chicago:20210828T152000
DTSTAMP:20260423T151752
CREATED:20210708T012141Z
LAST-MODIFIED:20210708T012141Z
UID:1261-1630159200-1630164000@middletennesseefantasysports.com
SUMMARY:WCFFL Draft
DESCRIPTION:Williamson County Fantasy Football League Draft \n16th season of play
URL:https://middletennesseefantasysports.com/mtfs-calendar/wcffl-draft/
LOCATION:Genesis Engineering\, 134 $th Avenue N.\, Franklin\, TN\, 37064\, United States
END:VEVENT
BEGIN:VEVENT
DTSTART;TZID=America/Chicago:20210828T123000
DTEND;TZID=America/Chicago:20210828T135000
DTSTAMP:20260423T151752
CREATED:20210708T012016Z
LAST-MODIFIED:20210708T012016Z
UID:1259-1630153800-1630158600@middletennesseefantasysports.com
SUMMARY:MCFFL Draft
DESCRIPTION:Maury County Fantasy Football League Draft \n13th season of play
URL:https://middletennesseefantasysports.com/mtfs-calendar/mcffl-draft/
LOCATION:Genesis Engineering\, 134 $th Avenue N.\, Franklin\, TN\, 37064\, United States
END:VEVENT
BEGIN:VEVENT
DTSTART;TZID=America/Chicago:20210828T110000
DTEND;TZID=America/Chicago:20210828T122000
DTSTAMP:20260423T151752
CREATED:20210708T011851Z
LAST-MODIFIED:20210708T011851Z
UID:1257-1630148400-1630153200@middletennesseefantasysports.com
SUMMARY:MTFFL Draft
DESCRIPTION:Middle Tennessee Fantasy Football League Draft \n28th season of play
URL:https://middletennesseefantasysports.com/mtfs-calendar/mtffl-draft/
LOCATION:Genesis Engineering\, 134 $th Avenue N.\, Franklin\, TN\, 37064\, United States
END:VEVENT
BEGIN:VEVENT
DTSTART;TZID=America/Chicago:20210828T093000
DTEND;TZID=America/Chicago:20210828T105000
DTSTAMP:20260423T151752
CREATED:20210705T204640Z
LAST-MODIFIED:20210705T204640Z
UID:1254-1630143000-1630147800@middletennesseefantasysports.com
SUMMARY:MTFFL2 Draft
DESCRIPTION:Middle Tennessee Fantasy Football League 2 Draft \n17th season of play
URL:https://middletennesseefantasysports.com/mtfs-calendar/mtffl2-draft/
LOCATION:Genesis Engineering\, 134 $th Avenue N.\, Franklin\, TN\, 37064\, United States
END:VEVENT
BEGIN:VEVENT
DTSTART;TZID=America/Chicago:20210828T080000
DTEND;TZID=America/Chicago:20210828T092000
DTSTAMP:20260423T151752
CREATED:20210705T204512Z
LAST-MODIFIED:20210705T204512Z
UID:1251-1630137600-1630142400@middletennesseefantasysports.com
SUMMARY:RCFFL Draft
DESCRIPTION:Rutherford County Fantasy Football League Draft \n11th season of play
URL:https://middletennesseefantasysports.com/mtfs-calendar/rcffl-draft/
LOCATION:Genesis Engineering\, 134 $th Avenue N.\, Franklin\, TN\, 37064\, United States
END:VEVENT
BEGIN:VEVENT
DTSTART;TZID=America/Chicago:20210822T063000
DTEND;TZID=America/Chicago:20210822T200000
DTSTAMP:20260423T151752
CREATED:20210705T164949Z
LAST-MODIFIED:20210705T164949Z
UID:1247-1629613800-1629662400@middletennesseefantasysports.com
SUMMARY:MTCFL Draft
DESCRIPTION:MTFS College Fantasy Football Draft
URL:https://middletennesseefantasysports.com/mtfs-calendar/mtcfl-draft/
LOCATION:Fantrax
END:VEVENT
BEGIN:VEVENT
DTSTART;VALUE=DATE:20200829
DTEND;VALUE=DATE:20200830
DTSTAMP:20260423T151752
CREATED:20200425T171759Z
LAST-MODIFIED:20200425T172657Z
UID:1189-1598659200-1598745599@middletennesseefantasysports.com
SUMMARY:MTFS Fantasy Football Draft 2020
DESCRIPTION:  Draft Day 2020 Schedule\n(All times are CST) \nSaturday\, August 29th \n8:00 am – RCFFL Draft\, 10th season \n9:30 am – MTFFL2 Draft\, 16th season \n11:00 am – MTFFL Draft\, 27th season \n12:30 pm – MCFFL Draft\, 12th season \n2:00 pm – WCFFL Draft\, 15th season \nAwards Ceremony Break \n4:45 pm – SCFFL Draft\, 6th season \n6:15 pm – DCFFL Draft\, 8th season \nSunday\, August 30th \n5:00 pm – MTBBL Draft\, Inaugural season \n6:30 pm – MTFFL3 Draft\, 5th season
URL:https://middletennesseefantasysports.com/mtfs-calendar/mtfs-fantasy-football-draft-2020/
END:VEVENT
BEGIN:VEVENT
DTSTART;TZID=America/Chicago:20200823T183000
DTEND;TZID=America/Chicago:20200823T203000
DTSTAMP:20260423T151752
CREATED:20200425T172907Z
LAST-MODIFIED:20200425T172907Z
UID:1191-1598207400-1598214600@middletennesseefantasysports.com
SUMMARY:MTCFL Draft 2020
DESCRIPTION:MTFS College Football Draft 2020 \n6:30 pm – Fantrax Draft Room
URL:https://middletennesseefantasysports.com/mtfs-calendar/mtcfl-draft-2020/
END:VEVENT
BEGIN:VEVENT
DTSTART;VALUE=DATE:20200601
DTEND;VALUE=DATE:20200602
DTSTAMP:20260423T151752
CREATED:20200425T161646Z
LAST-MODIFIED:20200425T161646Z
UID:1187-1590969600-1591055999@middletennesseefantasysports.com
SUMMARY:Football Decision Day
DESCRIPTION:Decision Day for 2020 football spots
URL:https://middletennesseefantasysports.com/mtfs-calendar/football-decision-day/
END:VEVENT
BEGIN:VEVENT
DTSTART;VALUE=DATE:20200509
DTEND;VALUE=DATE:20200510
DTSTAMP:20260423T151752
CREATED:20200425T154047Z
LAST-MODIFIED:20200425T154047Z
UID:1185-1588982400-1589068799@middletennesseefantasysports.com
SUMMARY:Football Emails
DESCRIPTION:2020 Fantasy Football Emails
URL:https://middletennesseefantasysports.com/mtfs-calendar/football-emails/
END:VEVENT
END:VCALENDAR